BEGIN:VCALENDAR
VERSION:2.0
PRODID:-//DMAnc - ECPv6.15.17//NONSGML v1.0//EN
CALSCALE:GREGORIAN
METHOD:PUBLISH
X-WR-CALNAME:DMAnc
X-ORIGINAL-URL:https://dmanc.org
X-WR-CALDESC:Events for DMAnc
REFRESH-INTERVAL;VALUE=DURATION:PT1H
X-Robots-Tag:noindex
X-PUBLISHED-TTL:PT1H
BEGIN:VTIMEZONE
TZID:America/Los_Angeles
BEGIN:DAYLIGHT
TZOFFSETFROM:-0800
TZOFFSETTO:-0700
TZNAME:PDT
DTSTART:20250309T100000
END:DAYLIGHT
BEGIN:STANDARD
TZOFFSETFROM:-0700
TZOFFSETTO:-0800
TZNAME:PST
DTSTART:20251102T090000
END:STANDARD
BEGIN:DAYLIGHT
TZOFFSETFROM:-0800
TZOFFSETTO:-0700
TZNAME:PDT
DTSTART:20260308T100000
END:DAYLIGHT
BEGIN:STANDARD
TZOFFSETFROM:-0700
TZOFFSETTO:-0800
TZNAME:PST
DTSTART:20261101T090000
END:STANDARD
BEGIN:DAYLIGHT
TZOFFSETFROM:-0800
TZOFFSETTO:-0700
TZNAME:PDT
DTSTART:20270314T100000
END:DAYLIGHT
BEGIN:STANDARD
TZOFFSETFROM:-0700
TZOFFSETTO:-0800
TZNAME:PST
DTSTART:20271107T090000
END:STANDARD
END:VTIMEZONE
BEGIN:VEVENT
DTSTART;TZID=America/Los_Angeles:20260420T090000
DTEND;TZID=America/Los_Angeles:20260420T110000
DTSTAMP:20260422T014707
CREATED:20260106T021308Z
LAST-MODIFIED:20260307T213812Z
UID:52211-1776675600-1776682800@dmanc.org
SUMMARY:SEO in the Era of AI Answer Engines – A Roadmap for AEO\, GEO and AEM Strategies\, 2-module Series\, Module 1
DESCRIPTION:
URL:https://dmanc.org/masterclass-event/seo-in-the-era-of-ai-answer-engines-a-roadmap-for-aeo-geo-and-aem-strategies-2-module-series-module-1/
END:VEVENT
END:VCALENDAR