BEGIN:VCALENDAR
VERSION:2.0
PRODID:-//DMAnc - ECPv6.15.17//NONSGML v1.0//EN
CALSCALE:GREGORIAN
METHOD:PUBLISH
X-WR-CALNAME:DMAnc
X-ORIGINAL-URL:https://dmanc.org
X-WR-CALDESC:Events for DMAnc
REFRESH-INTERVAL;VALUE=DURATION:PT1H
X-Robots-Tag:noindex
X-PUBLISHED-TTL:PT1H
BEGIN:VTIMEZONE
TZID:America/Los_Angeles
BEGIN:DAYLIGHT
TZOFFSETFROM:-0800
TZOFFSETTO:-0700
TZNAME:PDT
DTSTART:20250309T100000
END:DAYLIGHT
BEGIN:STANDARD
TZOFFSETFROM:-0700
TZOFFSETTO:-0800
TZNAME:PST
DTSTART:20251102T090000
END:STANDARD
BEGIN:DAYLIGHT
TZOFFSETFROM:-0800
TZOFFSETTO:-0700
TZNAME:PDT
DTSTART:20260308T100000
END:DAYLIGHT
BEGIN:STANDARD
TZOFFSETFROM:-0700
TZOFFSETTO:-0800
TZNAME:PST
DTSTART:20261101T090000
END:STANDARD
BEGIN:DAYLIGHT
TZOFFSETFROM:-0800
TZOFFSETTO:-0700
TZNAME:PDT
DTSTART:20270314T100000
END:DAYLIGHT
BEGIN:STANDARD
TZOFFSETFROM:-0700
TZOFFSETTO:-0800
TZNAME:PST
DTSTART:20271107T090000
END:STANDARD
END:VTIMEZONE
BEGIN:VEVENT
DTSTART;TZID=America/Los_Angeles:20260422T090000
DTEND;TZID=America/Los_Angeles:20260422T110000
DTSTAMP:20260422T021914
CREATED:20240108T171928Z
LAST-MODIFIED:20260201T065127Z
UID:37207-1776848400-1776855600@dmanc.org
SUMMARY:Video Production and Scriptwriting Using AI: A Masterclass\, 3-module Series\, Module 2
DESCRIPTION:
URL:https://dmanc.org/masterclass-event/video-scriptwriting-and-production-using-ai-masterclass-4-module-series-module-2/
END:VEVENT
BEGIN:VEVENT
DTSTART;TZID=America/Los_Angeles:20260422T090000
DTEND;TZID=America/Los_Angeles:20260422T110000
DTSTAMP:20260422T021914
CREATED:20241130T034029Z
LAST-MODIFIED:20260205T003827Z
UID:44777-1776848400-1776855600@dmanc.org
SUMMARY:B2B Go-to-Market Strategy Masterclass\, 1-module Course
DESCRIPTION:
URL:https://dmanc.org/masterclass-event/b2b-go-market-strategy-masterclass-1-module-course/
END:VEVENT
BEGIN:VEVENT
DTSTART;TZID=America/Los_Angeles:20260422T090000
DTEND;TZID=America/Los_Angeles:20260422T110000
DTSTAMP:20260422T021914
CREATED:20241201T074727Z
LAST-MODIFIED:20260311T034627Z
UID:44838-1776848400-1776855600@dmanc.org
SUMMARY:Marketing KPI Reporting with Looker Studio\, 2-module Series\, Module 1
DESCRIPTION:
URL:https://dmanc.org/masterclass-event/looker-studio-marketers-masterclass-2-module-series-module-1/
END:VEVENT
END:VCALENDAR